Index of /checkResults/devel/bioc-LATEST/scCB2/raw-results/nebbiolo1

[ICO]NameLast modifiedSizeDescription

[DIR]Parent Directory  -  
[TXT]buildsrc-out.txt23-Jan-2022 01:06 860  
[   ]buildsrc-summary.dcf23-Jan-2022 01:06 410  
[TXT]checksrc-out.txt23-Jan-2022 01:06 3.3K 
[   ]checksrc-summary.dcf23-Jan-2022 01:06 414  
[TXT]install-out.txt23-Jan-2022 01:06 949  
[   ]install-summary.dcf23-Jan-2022 01:06 254