Back to Multiple platform build/check report for BioC 3.17:   simplified   long
ABCDEFGHIJKLMNOPQR[S]TUVWXYZ

This page was generated on 2023-03-29 11:05:06 -0400 (Wed, 29 Mar 2023).

HostnameOSArch (*)R versionInstalled pkgs
nebbiolo1Linux (Ubuntu 22.04.1 LTS)x86_64R Under development (unstable) (2023-03-16 r83996) -- "Unsuffered Consequences" 4547
palomino3Windows Server 2022 Datacenterx64R Under development (unstable) (2023-03-15 r83984 ucrt) -- "Unsuffered Consequences" 4308
merida1macOS 10.14.6 Mojavex86_64R Under development (unstable) (2023-03-16 r83985) -- "Unsuffered Consequences" 4301
Click on any hostname to see more info about the system (e.g. compilers)      (*) as reported by 'uname -p', except on Windows and Mac OS X

BUILD results for scBFA on nebbiolo1


To the developers/maintainers of the scBFA package:
- Please allow up to 24 hours (and sometimes 48 hours) for your latest push to git@git.bioconductor.org:packages/scBFA.git to
reflect on this report. See How and When does the builder pull? When will my changes propagate? for more information.
- Make sure to use the following settings in order to reproduce any error or warning you see on this page.

raw results

Package 1798/2195HostnameOS / ArchINSTALLBUILDCHECKBUILD BIN
scBFA 1.13.0  (landing page)
Ruoxin Li
Snapshot Date: 2023-03-28 14:00:22 -0400 (Tue, 28 Mar 2023)
git_url: https://git.bioconductor.org/packages/scBFA
git_branch: devel
git_last_commit: f79fbad
git_last_commit_date: 2022-11-01 11:20:16 -0400 (Tue, 01 Nov 2022)
nebbiolo1Linux (Ubuntu 22.04.1 LTS) / x86_64  ERROR    ERROR  skipped
palomino3Windows Server 2022 Datacenter / x64  ERROR    ERROR  skippedskipped
merida1macOS 10.14.6 Mojave / x86_64  ERROR    ERROR  skippedskipped

Summary

Package: scBFA
Version: 1.13.0
Command: /home/biocbuild/bbs-3.17-bioc/R/bin/R CMD build --keep-empty-dirs --no-resave-data scBFA
StartedAt: 2023-03-28 17:42:51 -0400 (Tue, 28 Mar 2023)
EndedAt: 2023-03-28 17:43:02 -0400 (Tue, 28 Mar 2023)
EllapsedTime: 11.0 seconds
RetCode: 1
Status:   ERROR  
PackageFile: None
PackageFileSize: NA

Command output

##############################################################################
##############################################################################
###
### Running command:
###
###   /home/biocbuild/bbs-3.17-bioc/R/bin/R CMD build --keep-empty-dirs --no-resave-data scBFA
###
##############################################################################
##############################################################################


* checking for file ‘scBFA/DESCRIPTION’ ... OK
* preparing ‘scBFA’:
* checking DESCRIPTION meta-information ... OK
* installing the package to build vignettes
      -----------------------------------
* installing *source* package ‘scBFA’ ...
** using staged installation
** R
** data
*** moving datasets to lazyload DB
** byte-compile and prepare package for lazy loading
Error: objects ‘rowSums’, ‘colSums’, ‘rowMeans’, ‘colMeans’ are not exported by 'namespace:BiocGenerics'
Execution halted
ERROR: lazy loading failed for package ‘scBFA’
* removing ‘/tmp/RtmpNKRHto/Rinst21ffa619e23fdb/scBFA’
      -----------------------------------
ERROR: package installation failed