Index of /checkResults/devel/bioc-LATEST/scAnnotatR/raw-results/palomino3

[ICO]NameLast modifiedSizeDescription

[DIR]Parent Directory  -  
[TXT]checksrc-out.txt07-Mar-2024 01:38 3.7K 
[   ]checksrc-summary.dcf07-Mar-2024 01:38 463  
[TXT]buildbin-out.txt07-Mar-2024 01:38 1.4K 
[   ]buildbin-summary.dcf07-Mar-2024 01:38 530  
[TXT]install-out.txt29-Mar-2024 00:38 1.3K 
[   ]install-summary.dcf29-Mar-2024 00:38 273  
[TXT]buildsrc-out.txt29-Mar-2024 00:38 1.3K 
[   ]buildsrc-summary.dcf29-Mar-2024 00:38 377