Index of /checkResults/devel/bioc-LATEST/scAnnotatR/raw-results/nebbiolo1

[ICO]NameLast modifiedSizeDescription

[DIR]Parent Directory  -  
[   ]install-summary.dcf29-Mar-2024 00:37 264  
[   ]buildsrc-summary.dcf29-Mar-2024 00:37 339  
[   ]checksrc-summary.dcf29-Feb-2024 01:37 431  
[TXT]install-out.txt29-Mar-2024 00:37 1.3K 
[TXT]buildsrc-out.txt29-Mar-2024 00:37 1.3K 
[TXT]checksrc-out.txt29-Feb-2024 01:37 3.8K