Index of /checkResults/devel/bioc-LATEST/scAnnotatR/raw-results/merida1

[ICO]NameLast modifiedSizeDescription

[DIR]Parent Directory  -  
[   ]install-summary.dcf27-May-2024 00:35 276  
[TXT]install-out.txt27-May-2024 00:35 1.3K 
[   ]checksrc-summary.dcf27-May-2024 00:35 462  
[TXT]checksrc-out.txt27-May-2024 00:35 3.8K 
[   ]buildsrc-summary.dcf27-May-2024 00:35 438  
[TXT]buildsrc-out.txt27-May-2024 00:35 828  
[   ]buildbin-summary.dcf27-May-2024 00:35 548  
[TXT]buildbin-out.txt27-May-2024 00:35 1.5K