Back to Multiple platform build/check report for BioC 3.15
ABCDEFGHIJKLMNOPQR[S]TUVWXYZ

This page was generated on 2022-01-21 11:08:31 -0500 (Fri, 21 Jan 2022).

HostnameOSArch (*)R versionInstalled pkgs
nebbiolo1Linux (Ubuntu 20.04.4 LTS)x86_64R Under development (unstable) (2022-01-05 r81451) -- "Unsuffered Consequences" 4163
riesling1Windows Server 2019 Standardx64R Under development (unstable) (2021-11-21 r81221) -- "Unsuffered Consequences" 4058
palomino3Windows Server 2022 Datacenterx64R Under development (unstable) (2021-12-21 r81400 ucrt) -- "Unsuffered Consequences" 4000
merida1macOS 10.14.6 Mojavex86_64R Under development (unstable) (2022-01-05 r81451) -- "Unsuffered Consequences" 4117
Click on any hostname to see more info about the system (e.g. compilers)      (*) as reported by 'uname -p', except on Windows and Mac OS X

CHECK results for safe on riesling1


To the developers/maintainers of the safe package:
- Please allow up to 24 hours (and sometimes 48 hours) for your latest push to git@git.bioconductor.org:packages/safe.git to
reflect on this report. See How and When does the builder pull? When will my changes propagate? here for more information.
- Make sure to use the following settings in order to reproduce any error or warning you see on this page.

raw results

Package 1681/2075HostnameOS / ArchINSTALLBUILDCHECKBUILD BIN
safe 3.35.0  (landing page)
Ludwig Geistlinger
Snapshot Date: 2022-01-20 13:55:17 -0500 (Thu, 20 Jan 2022)
git_url: https://git.bioconductor.org/packages/safe
git_branch: master
git_last_commit: 4d567ec
git_last_commit_date: 2021-10-26 11:47:48 -0500 (Tue, 26 Oct 2021)
nebbiolo1Linux (Ubuntu 20.04.4 LTS) / x86_64  OK    OK    OK  UNNEEDED, same version is already published
riesling1Windows Server 2019 Standard / x64  OK    OK    OK    OK  
palomino3Windows Server 2022 Datacenter / x64  OK    OK    OK    OK  NO, package depends on 'AnnotationDbi' which is not available
merida1macOS 10.14.6 Mojave / x86_64  OK    OK    OK    OK  UNNEEDED, same version is already published

Summary

Package: safe
Version: 3.35.0
Command: D:\biocbuild\bbs-3.15-bioc\R\bin\R.exe CMD check --no-multiarch --install=check:safe.install-out.txt --library=D:\biocbuild\bbs-3.15-bioc\R\library --no-vignettes --timings safe_3.35.0.tar.gz
StartedAt: 2022-01-20 19:58:02 -0500 (Thu, 20 Jan 2022)
EndedAt: 2022-01-20 19:59:27 -0500 (Thu, 20 Jan 2022)
EllapsedTime: 84.6 seconds
RetCode: 0
Status:   OK  
CheckDir: safe.Rcheck
Warnings: 0

Command output

##############################################################################
##############################################################################
###
### Running command:
###
###   D:\biocbuild\bbs-3.15-bioc\R\bin\R.exe CMD check --no-multiarch --install=check:safe.install-out.txt --library=D:\biocbuild\bbs-3.15-bioc\R\library --no-vignettes --timings safe_3.35.0.tar.gz
###
##############################################################################
##############################################################################


* using log directory 'D:/biocbuild/bbs-3.15-bioc/meat/safe.Rcheck'
* using R Under development (unstable) (2021-11-21 r81221)
* using platform: x86_64-w64-mingw32 (64-bit)
* using session charset: ISO8859-1
* using option '--no-vignettes'
* checking for file 'safe/DESCRIPTION' ... OK
* this is package 'safe' version '3.35.0'
* checking package namespace information ... OK
* checking package dependencies ... OK
* checking if this is a source package ... OK
* checking if there is a namespace ... OK
* checking for hidden files and directories ... OK
* checking for portable file names ... OK
* checking whether package 'safe' can be installed ... OK
* checking installed package size ... OK
* checking package directory ... OK
* checking 'build' directory ... OK
* checking DESCRIPTION meta-information ... OK
* checking top-level files ... OK
* checking for left-over files ... OK
* checking index information ... OK
* checking package subdirectories ... OK
* checking R files for non-ASCII characters ... OK
* checking R files for syntax errors ... OK
* checking whether the package can be loaded ... OK
* checking whether the package can be loaded with stated dependencies ... OK
* checking whether the package can be unloaded cleanly ... OK
* checking whether the namespace can be loaded with stated dependencies ... OK
* checking whether the namespace can be unloaded cleanly ... OK
* checking dependencies in R code ... NOTE
'library' or 'require' call to 'SparseM' which was already attached by Depends.
  Please remove these calls from your code.
'library' or 'require' calls in package code:
  'GO.db' 'GOstats' 'PFAM.db' 'Rgraphviz' 'doRNG' 'foreach'
  'reactome.db' 'survival'
  Please use :: or requireNamespace() instead.
  See section 'Suggested packages' in the 'Writing R Extensions' manual.
* checking S3 generic/method consistency ... OK
* checking replacement functions ... OK
* checking foreign function calls ... OK
* checking R code for possible problems ... NOTE
getCOXresiduals: no visible global function definition for 'Surv'
getCOXresiduals: no visible global function definition for 'coxph'
getCOXresiduals: no visible global function definition for 'residuals'
getCmatrix: no visible binding for global variable 'GOTERM'
safe: no visible binding for global variable 'reactomeEXTID2PATHID'
safe: no visible global function definition for 'safe.express'
safe: no visible global function definition for 'getDoParWorkers'
safe: no visible global function definition for '%dorng%'
safe: no visible global function definition for 'foreach'
safe.toptable: no visible binding for global variable 'GOTERM'
safe.toptable: no visible binding for global variable 'PFAMSCOP'
safe.toptable: no visible binding for global variable 'reactome.db'
safedag: no visible binding for global variable 'GOTERM'
safedag: no visible global function definition for 'GOGraph'
safedag: no visible global function definition for 'makeNodeAttrs'
safedag: no visible global function definition for 'subGraph'
safedag: no visible global function definition for 'agopen'
safeplot: no visible binding for global variable 'GOTERM'
safeplot: no visible binding for global variable 'PFAMID'
Undefined global functions or variables:
  %dorng% GOGraph GOTERM PFAMID PFAMSCOP Surv agopen coxph foreach
  getDoParWorkers makeNodeAttrs reactome.db reactomeEXTID2PATHID
  residuals safe.express subGraph
Consider adding
  importFrom("stats", "residuals")
to your NAMESPACE file.
* checking Rd files ... OK
* checking Rd metadata ... OK
* checking Rd cross-references ... OK
* checking for missing documentation entries ... OK
* checking for code/documentation mismatches ... OK
* checking Rd \usage sections ... OK
* checking Rd contents ... OK
* checking for unstated dependencies in examples ... OK
* checking contents of 'data' directory ... OK
* checking data for non-ASCII characters ... OK
* checking data for ASCII and uncompressed saves ... OK
* checking files in 'vignettes' ... OK
* checking examples ... OK
* checking for unstated dependencies in vignettes ... OK
* checking package vignettes in 'inst/doc' ... OK
* checking running R code from vignettes ... SKIPPED
* checking re-building of vignette outputs ... SKIPPED
* checking PDF version of manual ... OK
* DONE

Status: 2 NOTEs
See
  'D:/biocbuild/bbs-3.15-bioc/meat/safe.Rcheck/00check.log'
for details.



Installation output

safe.Rcheck/00install.out

##############################################################################
##############################################################################
###
### Running command:
###
###   D:\biocbuild\bbs-3.15-bioc\R\bin\R.exe CMD INSTALL safe
###
##############################################################################
##############################################################################


* installing to library 'D:/biocbuild/bbs-3.15-bioc/R/library'
* installing *source* package 'safe' ...
** using staged installation
** R
** data
** byte-compile and prepare package for lazy loading
** help
*** installing help indices
  converting help for package 'safe'
    finding HTML links ... done
    SAFE-class                              html  
    gene.results                            html  
    getCmatrix                              html  
    p53.stat                                html  
    safe-internal                           html  
    safe-package                            html  
    safe                                    html  
    safe.toptable                           html  
    safedag                                 html  
    safeplot                                html  
** building package indices
** installing vignettes
** testing if installed package can be loaded from temporary location
** testing if installed package can be loaded from final location
** testing if installed package keeps a record of temporary installation path
* DONE (safe)
Making 'packages.html' ...Warning in packageDescription(i, lib.loc = lib, fields = "Title", encoding = "UTF-8") :
  DESCRIPTION file of package 'ggcyto' is missing or broken
Warning in packageDescription(i, lib.loc = lib, fields = "Title", encoding = "UTF-8") :
  DESCRIPTION file of package 'scReClassify' is missing or broken
 done

Tests output


Example timings

safe.Rcheck/safe-Ex.timings

nameusersystemelapsed
getCmatrix000
safe0.190.020.20
safeplot0.140.000.14