Index of /checkResults/devel/bioc-LATEST/rsbml/raw-results/kunpeng2
Name
Last modified
Size
Description
Parent Directory
-
buildsrc-out.txt
16-May-2024 02:46
5.8K
buildsrc-summary.dcf
16-May-2024 02:46
340
install-out.txt
16-May-2024 02:46
5.6K
install-summary.dcf
16-May-2024 02:46
269