Index of /checkResults/devel/bioc-LATEST/rsbml/raw-results/kunpeng2
Name
Last modified
Size
Description
Parent Directory
-
buildsrc-out.txt
30-Apr-2024 00:41
5.8K
buildsrc-summary.dcf
30-Apr-2024 00:41
340
install-out.txt
30-Apr-2024 00:41
5.6K
install-summary.dcf
30-Apr-2024 00:41
269