Index of /checkResults/devel/bioc-LATEST/rsbml/raw-results
Name
Last modified
Size
Description
Parent Directory
-
kunpeng2/
29-Mar-2024 00:41
-
nebbiolo1/
29-Mar-2024 00:37
-
palomino3/
29-Mar-2024 00:38
-
info.dcf
29-Mar-2024 00:35
261