Back to Multiple platform build/check report for BioC 3.15
ABCDEFGHIJKLMNOPQ[R]STUVWXYZ

This page was generated on 2022-01-17 11:08:16 -0500 (Mon, 17 Jan 2022).

HostnameOSArch (*)R versionInstalled pkgs
nebbiolo1Linux (Ubuntu 20.04.4 LTS)x86_64R Under development (unstable) (2022-01-05 r81451) -- "Unsuffered Consequences" 4161
riesling1Windows Server 2019 Standardx64R Under development (unstable) (2021-11-21 r81221) -- "Unsuffered Consequences" 4056
palomino3Windows Server 2022 Datacenterx64R Under development (unstable) (2021-12-21 r81400 ucrt) -- "Unsuffered Consequences" 3998
merida1macOS 10.14.6 Mojavex86_64R Under development (unstable) (2022-01-05 r81451) -- "Unsuffered Consequences" 4115
Click on any hostname to see more info about the system (e.g. compilers)      (*) as reported by 'uname -p', except on Windows and Mac OS X

INSTALL results for rrvgo on riesling1


To the developers/maintainers of the rrvgo package:
- Please allow up to 24 hours (and sometimes 48 hours) for your latest push to git@git.bioconductor.org:packages/rrvgo.git to
reflect on this report. See How and When does the builder pull? When will my changes propagate? here for more information.
- Make sure to use the following settings in order to reproduce any error or warning you see on this page.

raw results

Package 1652/2074HostnameOS / ArchINSTALLBUILDCHECKBUILD BIN
rrvgo 1.7.0  (landing page)
Sergi Sayols
Snapshot Date: 2022-01-16 13:55:18 -0500 (Sun, 16 Jan 2022)
git_url: https://git.bioconductor.org/packages/rrvgo
git_branch: master
git_last_commit: 881a974
git_last_commit_date: 2021-10-26 12:57:35 -0500 (Tue, 26 Oct 2021)
nebbiolo1Linux (Ubuntu 20.04.4 LTS) / x86_64  OK    OK    ERROR  
riesling1Windows Server 2019 Standard / x64  OK    OK    OK    OK  
palomino3Windows Server 2022 Datacenter / x64  OK    OK    ERROR    OK  
merida1macOS 10.14.6 Mojave / x86_64  OK    OK    ERROR    OK  

Summary

Package: rrvgo
Version: 1.7.0
Command: D:\biocbuild\bbs-3.15-bioc\R\bin\R.exe CMD INSTALL rrvgo
StartedAt: 2022-01-16 15:50:58 -0500 (Sun, 16 Jan 2022)
EndedAt: 2022-01-16 15:51:56 -0500 (Sun, 16 Jan 2022)
EllapsedTime: 58.0 seconds
RetCode: 0
Status:   OK  

Command output

##############################################################################
##############################################################################
###
### Running command:
###
###   D:\biocbuild\bbs-3.15-bioc\R\bin\R.exe CMD INSTALL rrvgo
###
##############################################################################
##############################################################################


* installing to library 'D:/biocbuild/bbs-3.15-bioc/R/library'
* installing *source* package 'rrvgo' ...
** using staged installation
** R
** inst
** byte-compile and prepare package for lazy loading
** help
*** installing help indices
  converting help for package 'rrvgo'
    finding HTML links ... done
    calculateSimMatrix                      html  
    getGoSize                               html  
    getGoTerm                               html  
    gg_color_hue                            html  
    heatmapPlot                             html  
    loadOrgdb                               html  
    reduceSimMatrix                         html  
    scatterPlot                             html  
    shiny_rrvgo                             html  
    treemapPlot                             html  
    wordcloudPlot                           html  
** building package indices
** installing vignettes
** testing if installed package can be loaded from temporary location
** testing if installed package can be loaded from final location
** testing if installed package keeps a record of temporary installation path
* DONE (rrvgo)
Making 'packages.html' ... done