![]() | Name | Last modified | Size | Description |
---|---|---|---|---|
![]() | Parent Directory | - | ||
![]() | install-summary.dcf | 03-Dec-2023 01:39 | 264 | |
![]() | install-out.txt | 03-Dec-2023 01:39 | 964 | |
![]() | checksrc-summary.dcf | 03-Dec-2023 01:39 | 441 | |
![]() | checksrc-out.txt | 03-Dec-2023 01:39 | 1.6K | |
![]() | buildsrc-summary.dcf | 03-Dec-2023 01:39 | 421 | |
![]() | buildsrc-out.txt | 03-Dec-2023 01:39 | 807 | |