Name | Last modified | Size | Description | |
---|---|---|---|---|
Parent Directory | - | |||
checksrc-out.txt | 29-Jun-2024 00:38 | 4.1K | ||
checksrc-summary.dcf | 29-Jun-2024 00:38 | 415 | ||
buildsrc-out.txt | 29-Jun-2024 00:38 | 856 | ||
buildsrc-summary.dcf | 29-Jun-2024 00:38 | 420 | ||
install-out.txt | 29-Jun-2024 00:38 | 3.4K | ||
install-summary.dcf | 29-Jun-2024 00:38 | 256 | ||