Name | Last modified | Size | Description | |
---|---|---|---|---|
Parent Directory | - | |||
install-summary.dcf | 29-Jun-2024 00:40 | 267 | ||
buildsrc-summary.dcf | 29-Jun-2024 00:40 | 424 | ||
checksrc-summary.dcf | 29-Jun-2024 00:40 | 439 | ||
buildbin-summary.dcf | 29-Jun-2024 00:40 | 524 | ||
buildsrc-out.txt | 29-Jun-2024 00:40 | 842 | ||
install-out.txt | 29-Jun-2024 00:40 | 2.9K | ||
checksrc-out.txt | 29-Jun-2024 00:40 | 4.0K | ||
buildbin-out.txt | 29-Jun-2024 00:40 | 4.7K | ||