Name | Last modified | Size | Description | |
---|---|---|---|---|
Parent Directory | - | |||
install-summary.dcf | 29-Jun-2024 00:41 | 266 | ||
buildsrc-summary.dcf | 29-Jun-2024 00:41 | 423 | ||
checksrc-summary.dcf | 29-Jun-2024 00:41 | 439 | ||
buildbin-summary.dcf | 29-Jun-2024 00:41 | 523 | ||
buildsrc-out.txt | 29-Jun-2024 00:41 | 842 | ||
install-out.txt | 29-Jun-2024 00:41 | 3.1K | ||
checksrc-out.txt | 29-Jun-2024 00:41 | 4.0K | ||
buildbin-out.txt | 29-Jun-2024 00:41 | 4.9K | ||