Index of /checkResults/devel/bioc-LATEST/rqt/raw-results/nebbiolo2
Name
Last modified
Size
Description
Parent Directory
-
buildsrc-out.txt
14-Jun-2024 01:18
1.7K
buildsrc-summary.dcf
14-Jun-2024 01:18
331
install-out.txt
14-Jun-2024 01:18
940
install-summary.dcf
14-Jun-2024 01:18
251