Index of /checkResults/devel/bioc-LATEST/rpx/raw-results/palomino4

[ICO]NameLast modifiedSizeDescription

[DIR]Parent Directory  -  
[TXT]buildbin-out.txt18-Aug-2022 00:07 1.1K 
[   ]buildbin-summary.dcf18-Aug-2022 00:07 506  
[TXT]buildsrc-out.txt18-Aug-2022 00:07 818  
[   ]buildsrc-summary.dcf18-Aug-2022 00:07 434  
[TXT]checksrc-out.txt18-Aug-2022 00:07 3.0K 
[   ]checksrc-summary.dcf18-Aug-2022 00:07 431  
[TXT]install-out.txt18-Aug-2022 00:07 1.7K 
[   ]install-summary.dcf18-Aug-2022 00:07 586