Index of /checkResults/devel/bioc-LATEST/rpx/raw-results/nebbiolo2

[ICO]NameLast modifiedSizeDescription

[DIR]Parent Directory  -  
[TXT]buildsrc-out.txt16-Aug-2022 00:05 789  
[   ]buildsrc-summary.dcf16-Aug-2022 00:05 403  
[TXT]checksrc-out.txt16-Aug-2022 00:05 3.0K 
[   ]checksrc-summary.dcf16-Aug-2022 00:05 405  
[TXT]install-out.txt16-Aug-2022 00:05 927  
[   ]install-summary.dcf16-Aug-2022 00:05 250