Back to Multiple platform build/check report for BioC 3.15
ABCDEFGHIJKLMNOPQ[R]STUVWXYZ

This page was generated on 2022-01-17 11:08:12 -0500 (Mon, 17 Jan 2022).

HostnameOSArch (*)R versionInstalled pkgs
nebbiolo1Linux (Ubuntu 20.04.4 LTS)x86_64R Under development (unstable) (2022-01-05 r81451) -- "Unsuffered Consequences" 4161
riesling1Windows Server 2019 Standardx64R Under development (unstable) (2021-11-21 r81221) -- "Unsuffered Consequences" 4056
palomino3Windows Server 2022 Datacenterx64R Under development (unstable) (2021-12-21 r81400 ucrt) -- "Unsuffered Consequences" 3998
merida1macOS 10.14.6 Mojavex86_64R Under development (unstable) (2022-01-05 r81451) -- "Unsuffered Consequences" 4115
Click on any hostname to see more info about the system (e.g. compilers)      (*) as reported by 'uname -p', except on Windows and Mac OS X

BUILD BIN results for rgsepd on riesling1


To the developers/maintainers of the rgsepd package:
- Please allow up to 24 hours (and sometimes 48 hours) for your latest push to git@git.bioconductor.org:packages/rgsepd.git to
reflect on this report. See How and When does the builder pull? When will my changes propagate? here for more information.
- Make sure to use the following settings in order to reproduce any error or warning you see on this page.

raw results

Package 1590/2074HostnameOS / ArchINSTALLBUILDCHECKBUILD BIN
rgsepd 1.27.0  (landing page)
Karl Stamm
Snapshot Date: 2022-01-16 13:55:18 -0500 (Sun, 16 Jan 2022)
git_url: https://git.bioconductor.org/packages/rgsepd
git_branch: master
git_last_commit: 517eb1e
git_last_commit_date: 2021-10-26 12:18:10 -0500 (Tue, 26 Oct 2021)
nebbiolo1Linux (Ubuntu 20.04.4 LTS) / x86_64  OK    OK    OK  UNNEEDED, same version is already published
riesling1Windows Server 2019 Standard / x64  OK    OK    OK    OK  
palomino3Windows Server 2022 Datacenter / x64  OK    OK    OK    OK  NO, package depends on 'DESeq2' which is not available
merida1macOS 10.14.6 Mojave / x86_64  OK    OK    OK    OK  UNNEEDED, same version is already published

Summary

Package: rgsepd
Version: 1.27.0
Command: rm -rf rgsepd.buildbin-libdir && mkdir rgsepd.buildbin-libdir && D:\biocbuild\bbs-3.15-bioc\R\bin\R.exe CMD INSTALL --build --library=rgsepd.buildbin-libdir rgsepd_1.27.0.tar.gz
StartedAt: 2022-01-16 21:20:14 -0500 (Sun, 16 Jan 2022)
EndedAt: 2022-01-16 21:21:27 -0500 (Sun, 16 Jan 2022)
EllapsedTime: 72.9 seconds
RetCode: 0
Status:   OK  
PackageFile: rgsepd_1.27.0.zip
PackageFileSize: 1.32 MiB

Command output

##############################################################################
##############################################################################
###
### Running command:
###
###   rm -rf rgsepd.buildbin-libdir && mkdir rgsepd.buildbin-libdir && D:\biocbuild\bbs-3.15-bioc\R\bin\R.exe CMD INSTALL --build --library=rgsepd.buildbin-libdir rgsepd_1.27.0.tar.gz
###
##############################################################################
##############################################################################


* installing *source* package 'rgsepd' ...
** using staged installation
** R
** data
** inst
** byte-compile and prepare package for lazy loading
** help
*** installing help indices
  converting help for package 'rgsepd'
    finding HTML links ... done
    DisplayName                             html  
    ExtractProjection                       html  
    GSEPD_ChangeConditions                  html  
    GSEPD_ChangeOutput                      html  
    GSEPD_DEGHeatmap                        html  
    GSEPD_Export_DESeq                      html  
    GSEPD_Heatmap                           html  
    GSEPD_INIT                              html  
    GSEPD_PCA_Plot                          html  
    GSEPD_PCA_Spec                          html  
    GSEPD_Process                           html  
    GSEPD_ProcessAll                        html  
    GSEPD_PullDEG                           html  
    IlluminaBodymap                         html  
    IlluminaBodymapMeta                     html  
    Name_to_RefSeq                          html  
    rgsepd-package                          html  
** building package indices
** installing vignettes
** testing if installed package can be loaded from temporary location
'select()' returned 1:1 mapping between keys and columns
'select()' returned 1:1 mapping between keys and columns
** testing if installed package can be loaded from final location
'select()' returned 1:1 mapping between keys and columns
'select()' returned 1:1 mapping between keys and columns
** testing if installed package keeps a record of temporary installation path
* MD5 sums
packaged installation of 'rgsepd' as rgsepd_1.27.0.zip
* DONE (rgsepd)