Name | Last modified | Size | Description | |
---|---|---|---|---|
Parent Directory | - | |||
buildsrc-out.txt | 07-May-2024 00:36 | 865 | ||
buildsrc-summary.dcf | 07-May-2024 00:36 | 415 | ||
checksrc-out.txt | 07-May-2024 00:36 | 3.7K | ||
checksrc-summary.dcf | 07-May-2024 00:36 | 410 | ||
install-out.txt | 07-May-2024 00:36 | 1.2K | ||
install-summary.dcf | 07-May-2024 00:36 | 258 | ||