Index of /checkResults/devel/bioc-LATEST/rgsepd/raw-results
Name
Last modified
Size
Description
Parent Directory
-
palomino4/
18-May-2022 00:07
-
nebbiolo2/
18-May-2022 00:05
-
lconway/
18-May-2022 00:08
-
info.dcf
18-May-2022 00:08
261