Back to Multiple platform build/check report for BioC 3.15
ABCDEFGHIJKLMNOPQ[R]STUVWXYZ

This page was generated on 2022-01-15 11:08:26 -0500 (Sat, 15 Jan 2022).

HostnameOSArch (*)R versionInstalled pkgs
nebbiolo1Linux (Ubuntu 20.04.4 LTS)x86_64R Under development (unstable) (2022-01-05 r81451) -- "Unsuffered Consequences" 4160
riesling1Windows Server 2019 Standardx64R Under development (unstable) (2021-11-21 r81221) -- "Unsuffered Consequences" 4055
palomino3Windows Server 2022 Datacenterx64R Under development (unstable) (2021-12-21 r81400 ucrt) -- "Unsuffered Consequences" 3997
merida1macOS 10.14.6 Mojavex86_64R Under development (unstable) (2022-01-05 r81451) -- "Unsuffered Consequences" 4114
Click on any hostname to see more info about the system (e.g. compilers)      (*) as reported by 'uname -p', except on Windows and Mac OS X

BUILD BIN results for restfulSE on riesling1


To the developers/maintainers of the restfulSE package:
- Please allow up to 24 hours (and sometimes 48 hours) for your latest push to git@git.bioconductor.org:packages/restfulSE.git to
reflect on this report. See How and When does the builder pull? When will my changes propagate? here for more information.
- Make sure to use the following settings in order to reproduce any error or warning you see on this page.

raw results

Package 1577/2074HostnameOS / ArchINSTALLBUILDCHECKBUILD BIN
restfulSE 1.17.0  (landing page)
Shweta Gopaulakrishnan
Snapshot Date: 2022-01-14 13:55:18 -0500 (Fri, 14 Jan 2022)
git_url: https://git.bioconductor.org/packages/restfulSE
git_branch: master
git_last_commit: 7f3bd6a
git_last_commit_date: 2021-10-26 12:38:23 -0500 (Tue, 26 Oct 2021)
nebbiolo1Linux (Ubuntu 20.04.4 LTS) / x86_64  OK    OK    ERROR  
riesling1Windows Server 2019 Standard / x64  OK    OK    ERROR    OK  
palomino3Windows Server 2022 Datacenter / x64  OK    OK    ERROR    OK  
merida1macOS 10.14.6 Mojave / x86_64  OK    OK    ERROR    OK  

Summary

Package: restfulSE
Version: 1.17.0
Command: rm -rf restfulSE.buildbin-libdir && mkdir restfulSE.buildbin-libdir && D:\biocbuild\bbs-3.15-bioc\R\bin\R.exe CMD INSTALL --build --library=restfulSE.buildbin-libdir restfulSE_1.17.0.tar.gz
StartedAt: 2022-01-14 21:18:09 -0500 (Fri, 14 Jan 2022)
EndedAt: 2022-01-14 21:19:27 -0500 (Fri, 14 Jan 2022)
EllapsedTime: 77.9 seconds
RetCode: 0
Status:   OK  
PackageFile: restfulSE_1.17.0.zip
PackageFileSize: 926.8 KiB

Command output

##############################################################################
##############################################################################
###
### Running command:
###
###   rm -rf restfulSE.buildbin-libdir && mkdir restfulSE.buildbin-libdir && D:\biocbuild\bbs-3.15-bioc\R\bin\R.exe CMD INSTALL --build --library=restfulSE.buildbin-libdir restfulSE_1.17.0.tar.gz
###
##############################################################################
##############################################################################


* installing *source* package 'restfulSE' ...
** using staged installation
** R
** inst
** byte-compile and prepare package for lazy loading
** help
*** installing help indices
  converting help for package 'restfulSE'
    finding HTML links ... done
    BQ3_Array-class                         html  
    BQ3_Array                               html  
    BQ3_ArraySeed-class                     html  
    BQ3_Matrix-class                        html  
    BQ3_Source-class                        html  
    BQ3_Source                              html  
    BQM_Array-class                         html  
    BQM_Array                               html  
    BQM_ArraySeed-class                     html  
    BQM_Matrix-class                        html  
    BQM_Source-class                        html  
    BQM_Source                              html  
    BQSummarizedExperiment                  html  
    DelayedArray-BQ3_ArraySeed-method       html  
    RESTfulSummarizedExperiment-class       html  
    RESTfulSummarizedExperiment             html  
    assay-BQSummarizedExperiment-missing-method
                                            html  
    assayNames-BQSummarizedExperiment-method
                                            html  
    basic_clinvars                          html  
    bqConn                                  html  
    cgcConn                                 html  
    dim-BQ3_ArraySeed-method                html  
    dim-BQM_ArraySeed-method                html  
    dim-RESTfulSummarizedExperiment-method
                                            html  
    dimnames-BQ3_ArraySeed-method           html  
    dimnames-BQM_ArraySeed-method           html  
    goPatt                                  html  
    gtexTiss                                html  
    isbCgcDatasets                          html  
    isbCgcTables                            html  
    newDA                                   html  
    pancan_SE                               html  
    se1.3M                                  html  
    seByTumor                               html  
    seByTumor_2016                          html  
    tasicCortex                             html  
** building package indices
** installing vignettes
** testing if installed package can be loaded from temporary location
** testing if installed package can be loaded from final location
** testing if installed package keeps a record of temporary installation path
* MD5 sums
packaged installation of 'restfulSE' as restfulSE_1.17.0.zip
* DONE (restfulSE)