Index of /checkResults/devel/bioc-LATEST/restfulSE/raw-results

[ICO]NameLast modifiedSizeDescription

[DIR]Parent Directory  -  
[   ]info.dcf29-Mar-2024 00:35 282  
[DIR]kunpeng2/29-Mar-2024 00:41 -  
[DIR]lconway/29-Mar-2024 00:39 -  
[DIR]merida1/05-Mar-2024 01:39 -  
[DIR]nebbiolo1/29-Mar-2024 00:36 -  
[DIR]palomino3/29-Mar-2024 00:38 -