Back to Multiple platform build/check report for BioC 3.15
ABCDEFGHIJKLMNOPQ[R]STUVWXYZ

This page was generated on 2022-01-24 11:08:13 -0500 (Mon, 24 Jan 2022).

HostnameOSArch (*)R versionInstalled pkgs
nebbiolo1Linux (Ubuntu 20.04.4 LTS)x86_64R Under development (unstable) (2022-01-05 r81451) -- "Unsuffered Consequences" 4163
riesling1Windows Server 2019 Standardx64R Under development (unstable) (2021-11-21 r81221) -- "Unsuffered Consequences" 4058
palomino3Windows Server 2022 Datacenterx64R Under development (unstable) (2021-12-21 r81400 ucrt) -- "Unsuffered Consequences" 4000
merida1macOS 10.14.6 Mojavex86_64R Under development (unstable) (2022-01-05 r81451) -- "Unsuffered Consequences" 4117
Click on any hostname to see more info about the system (e.g. compilers)      (*) as reported by 'uname -p', except on Windows and Mac OS X

INSTALL results for regutools on riesling1


To the developers/maintainers of the regutools package:
- Please allow up to 24 hours (and sometimes 48 hours) for your latest push to git@git.bioconductor.org:packages/regutools.git to
reflect on this report. See How and When does the builder pull? When will my changes propagate? here for more information.
- Make sure to use the following settings in order to reproduce any error or warning you see on this page.

raw results

Package 1571/2075HostnameOS / ArchINSTALLBUILDCHECKBUILD BIN
regutools 1.7.1  (landing page)
Joselyn Chavez
Snapshot Date: 2022-01-23 13:55:15 -0500 (Sun, 23 Jan 2022)
git_url: https://git.bioconductor.org/packages/regutools
git_branch: master
git_last_commit: c4d9394
git_last_commit_date: 2021-11-22 22:51:31 -0500 (Mon, 22 Nov 2021)
nebbiolo1Linux (Ubuntu 20.04.4 LTS) / x86_64  OK    OK    OK  UNNEEDED, same version is already published
riesling1Windows Server 2019 Standard / x64  OK    OK    OK    OK  
palomino3Windows Server 2022 Datacenter / x64  OK    OK    OK    OK  NO, package depends on 'AnnotationDbi' which is not available
merida1macOS 10.14.6 Mojave / x86_64  OK    OK    OK    OK  UNNEEDED, same version is already published

Summary

Package: regutools
Version: 1.7.1
Command: D:\biocbuild\bbs-3.15-bioc\R\bin\R.exe CMD INSTALL regutools
StartedAt: 2022-01-23 16:12:18 -0500 (Sun, 23 Jan 2022)
EndedAt: 2022-01-23 16:13:01 -0500 (Sun, 23 Jan 2022)
EllapsedTime: 43.6 seconds
RetCode: 0
Status:   OK  

Command output

##############################################################################
##############################################################################
###
### Running command:
###
###   D:\biocbuild\bbs-3.15-bioc\R\bin\R.exe CMD INSTALL regutools
###
##############################################################################
##############################################################################


* installing to library 'D:/biocbuild/bbs-3.15-bioc/R/library'
* installing *source* package 'regutools' ...
** using staged installation
** R
** inst
** byte-compile and prepare package for lazy loading
** help
*** installing help indices
  converting help for package 'regutools'
    finding HTML links ... done
    build_condition                         html  
    connect_database                        html  
    convert_to_biostrings                   html  
    convert_to_granges                      html  
    existing_intervals                      html  
    existing_partial_match                  html  
    get_binding_sites                       html  
    get_dataset                             html  
    get_dna_objects                         html  
    get_gene_regulators                     html  
    get_gene_synonyms                       html  
    get_regulatory_network                  html  
    get_regulatory_summary                  html  
    guess_id                                html  
    list_attributes                         html  
    list_datasets                           html  
    non_existing_intervals                  html  
    plot_dna_objects                        html  
    regulondb-class                         html  
    regulondb-methods                       html  
    regulondb                               html  
    regulondb_result-class                  html  
    regutools-package                       html  
*** copying figures
** building package indices
** installing vignettes
** testing if installed package can be loaded from temporary location
** testing if installed package can be loaded from final location
** testing if installed package keeps a record of temporary installation path
* DONE (regutools)
Making 'packages.html' ... done