Back to Multiple platform build/check report for BioC 3.14
ABCDEFGHIJKLMNOPQ[R]STUVWXYZ

This page was generated on 2021-10-20 12:05:22 -0400 (Wed, 20 Oct 2021).

INSTALL results for regsplice on riesling1

To the developers/maintainers of the regsplice package:
- Please allow up to 24 hours (and sometimes 48 hours) for your latest push to git@git.bioconductor.org:packages/regsplice.git to
reflect on this report. See How and When does the builder pull? When will my changes propagate? here for more information.
- Make sure to use the following settings in order to reproduce any error or warning you see on this page.

raw results

Package 1568/2072HostnameOS / ArchINSTALLBUILDCHECKBUILD BIN
regsplice 1.19.0  (landing page)
Lukas M. Weber
Snapshot Date: 2021-10-19 14:50:04 -0400 (Tue, 19 Oct 2021)
git_url: https://git.bioconductor.org/packages/regsplice
git_branch: master
git_last_commit: 8279a31
git_last_commit_date: 2021-05-19 12:24:14 -0400 (Wed, 19 May 2021)
nebbiolo2Linux (Ubuntu 20.04.2 LTS) / x86_64  OK    OK    OK  UNNEEDED, same version is already published
riesling1Windows Server 2019 Standard / x64  OK    OK    OK    OK  UNNEEDED, same version is already published
merida1macOS 10.14.6 Mojave / x86_64  OK    OK    OK    NA  

Summary

Package: regsplice
Version: 1.19.0
Command: C:\cygwin\bin\curl.exe -O http://155.52.207.166/BBS/3.14/bioc/src/contrib/regsplice_1.19.0.tar.gz && rm -rf regsplice.buildbin-libdir && mkdir regsplice.buildbin-libdir && D:\biocbuild\bbs-3.14-bioc\R\bin\R.exe CMD INSTALL --merge-multiarch --build --library=regsplice.buildbin-libdir regsplice_1.19.0.tar.gz && D:\biocbuild\bbs-3.14-bioc\R\bin\R.exe CMD INSTALL regsplice_1.19.0.zip && rm regsplice_1.19.0.tar.gz regsplice_1.19.0.zip
StartedAt: 2021-10-19 19:25:47 -0400 (Tue, 19 Oct 2021)
EndedAt: 2021-10-19 19:28:38 -0400 (Tue, 19 Oct 2021)
EllapsedTime: 171.3 seconds
RetCode: 0
Status:   OK  

Command output

##############################################################################
##############################################################################
###
### Running command:
###
###   C:\cygwin\bin\curl.exe -O http://155.52.207.166/BBS/3.14/bioc/src/contrib/regsplice_1.19.0.tar.gz && rm -rf regsplice.buildbin-libdir && mkdir regsplice.buildbin-libdir && D:\biocbuild\bbs-3.14-bioc\R\bin\R.exe CMD INSTALL --merge-multiarch --build --library=regsplice.buildbin-libdir regsplice_1.19.0.tar.gz && D:\biocbuild\bbs-3.14-bioc\R\bin\R.exe CMD INSTALL regsplice_1.19.0.zip && rm regsplice_1.19.0.tar.gz regsplice_1.19.0.zip
###
##############################################################################
##############################################################################


  % Total    % Received % Xferd  Average Speed   Time    Time     Time  Current
                                 Dload  Upload   Total   Spent    Left  Speed

  0     0    0     0    0     0      0      0 --:--:-- --:--:-- --:--:--     0
100 67059  100 67059    0     0   299k      0 --:--:-- --:--:-- --:--:--  300k

install for i386

* installing *source* package 'regsplice' ...
** using staged installation
** R
** inst
** byte-compile and prepare package for lazy loading
** help
*** installing help indices
  converting help for package 'regsplice'
    finding HTML links ... done
    LRTests                                 html  
    RegspliceData                           html  
    RegspliceResults                        html  
    createDesignMatrix                      html  
    filterLowCounts                         html  
    filterZeros                             html  
    fitRegMultiple                          html  
    initializeResults                       html  
    finding level-2 HTML links ... done

    regsplice                               html  
    runNormalization                        html  
    runVoom                                 html  
    summaryTable                            html  
** building package indices
** installing vignettes
** testing if installed package can be loaded from temporary location
** testing if installed package can be loaded from final location
** testing if installed package keeps a record of temporary installation path

install for x64

* installing *source* package 'regsplice' ...
** testing if installed package can be loaded
* MD5 sums
packaged installation of 'regsplice' as regsplice_1.19.0.zip
* DONE (regsplice)
* installing to library 'D:/biocbuild/bbs-3.14-bioc/R/library'
package 'regsplice' successfully unpacked and MD5 sums checked