Back to Multiple platform build/check report for BioC 3.15
ABCDEFGHIJKLMNOPQ[R]STUVWXYZ

This page was generated on 2021-11-27 14:05:19 -0500 (Sat, 27 Nov 2021).

BUILD BIN results for regsplice on riesling1

To the developers/maintainers of the regsplice package:
- Please allow up to 24 hours (and sometimes 48 hours) for your latest push to git@git.bioconductor.org:packages/regsplice.git to
reflect on this report. See How and When does the builder pull? When will my changes propagate? here for more information.
- Make sure to use the following settings in order to reproduce any error or warning you see on this page.

raw results

Package 1563/2068HostnameOS / ArchINSTALLBUILDCHECKBUILD BIN
regsplice 1.21.0  (landing page)
Lukas M. Weber
Snapshot Date: 2021-11-26 14:50:14 -0500 (Fri, 26 Nov 2021)
git_url: https://git.bioconductor.org/packages/regsplice
git_branch: master
git_last_commit: b3eb4c6
git_last_commit_date: 2021-10-26 12:31:14 -0500 (Tue, 26 Oct 2021)
nebbiolo1Linux (Ubuntu 20.04.3 LTS) / x86_64  OK    OK    OK  UNNEEDED, same version is already published
riesling1Windows Server 2019 Standard / x64  OK    OK    OK    OK  
merida1macOS 10.14.6 Mojave / x86_64  OK    OK    OK    OK  UNNEEDED, same version is already published

Summary

Package: regsplice
Version: 1.21.0
Command: rm -rf regsplice.buildbin-libdir && mkdir regsplice.buildbin-libdir && D:\biocbuild\bbs-3.15-bioc\R\bin\R.exe CMD INSTALL --merge-multiarch --build --library=regsplice.buildbin-libdir regsplice_1.21.0.tar.gz
StartedAt: 2021-11-27 08:00:01 -0500 (Sat, 27 Nov 2021)
EndedAt: 2021-11-27 08:04:43 -0500 (Sat, 27 Nov 2021)
EllapsedTime: 281.8 seconds
RetCode: 0
Status:   OK  
PackageFile: regsplice_1.21.0.zip
PackageFileSize: 448.4 KiB

Command output

##############################################################################
##############################################################################
###
### Running command:
###
###   rm -rf regsplice.buildbin-libdir && mkdir regsplice.buildbin-libdir && D:\biocbuild\bbs-3.15-bioc\R\bin\R.exe CMD INSTALL --merge-multiarch --build --library=regsplice.buildbin-libdir regsplice_1.21.0.tar.gz
###
##############################################################################
##############################################################################


only one architecture so ignoring '--merge-multiarch'
* installing *source* package 'regsplice' ...
** using staged installation
** R
** inst
** byte-compile and prepare package for lazy loading
** help
*** installing help indices
  converting help for package 'regsplice'
    finding HTML links ... done
    LRTests                                 html  
    RegspliceData                           html  
    RegspliceResults                        html  
    createDesignMatrix                      html  
    filterLowCounts                         html  
    filterZeros                             html  
    fitRegMultiple                          html  
    initializeResults                       html  
    finding level-2 HTML links ... done

    regsplice                               html  
    runNormalization                        html  
    runVoom                                 html  
    summaryTable                            html  
** building package indices
** installing vignettes
** testing if installed package can be loaded from temporary location
** testing if installed package can be loaded from final location
** testing if installed package keeps a record of temporary installation path
* MD5 sums
packaged installation of 'regsplice' as regsplice_1.21.0.zip
* DONE (regsplice)