Back to Multiple platform build/check report for BioC 3.14
ABCDEFGHIJKLMNOPQ[R]STUVWXYZ

This page was generated on 2021-10-23 14:07:14 -0400 (Sat, 23 Oct 2021).

INSTALL results for regsplice on merida1

To the developers/maintainers of the regsplice package:
- Please allow up to 24 hours (and sometimes 48 hours) for your latest push to git@git.bioconductor.org:packages/regsplice.git to
reflect on this report. See How and When does the builder pull? When will my changes propagate? here for more information.
- Make sure to use the following settings in order to reproduce any error or warning you see on this page.

raw results

Package 1575/2083HostnameOS / ArchINSTALLBUILDCHECKBUILD BIN
regsplice 1.19.0  (landing page)
Lukas M. Weber
Snapshot Date: 2021-10-22 14:50:11 -0400 (Fri, 22 Oct 2021)
git_url: https://git.bioconductor.org/packages/regsplice
git_branch: master
git_last_commit: 8279a31
git_last_commit_date: 2021-05-19 12:24:14 -0400 (Wed, 19 May 2021)
nebbiolo2Linux (Ubuntu 20.04.2 LTS) / x86_64  OK    OK    OK  UNNEEDED, same version is already published
riesling1Windows Server 2019 Standard / x64  OK    OK    OK    OK  UNNEEDED, same version is already published
merida1macOS 10.14.6 Mojave / x86_64  OK    OK    OK    OK  UNNEEDED, same version is already published

Summary

Package: regsplice
Version: 1.19.0
Command: /Library/Frameworks/R.framework/Resources/bin/R CMD INSTALL regsplice
StartedAt: 2021-10-22 18:17:28 -0400 (Fri, 22 Oct 2021)
EndedAt: 2021-10-22 18:17:58 -0400 (Fri, 22 Oct 2021)
EllapsedTime: 30.0 seconds
RetCode: 0
Status:   OK  

Command output

##############################################################################
##############################################################################
###
### Running command:
###
###   /Library/Frameworks/R.framework/Resources/bin/R CMD INSTALL regsplice
###
##############################################################################
##############################################################################


* installing to library ‘/Library/Frameworks/R.framework/Versions/4.1/Resources/library’
* installing *source* package ‘regsplice’ ...
** using staged installation
** R
** inst
** byte-compile and prepare package for lazy loading
** help
*** installing help indices
** building package indices
** installing vignettes
** testing if installed package can be loaded from temporary location
** testing if installed package can be loaded from final location
** testing if installed package keeps a record of temporary installation path
* DONE (regsplice)