Back to Multiple platform build/check report for BioC 3.14
ABCDEFGHIJKLMNOPQ[R]STUVWXYZ

This page was generated on 2021-10-22 12:05:08 -0400 (Fri, 22 Oct 2021).

BUILD results for regsplice on merida1

To the developers/maintainers of the regsplice package:
- Please allow up to 24 hours (and sometimes 48 hours) for your latest push to git@git.bioconductor.org:packages/regsplice.git to
reflect on this report. See How and When does the builder pull? When will my changes propagate? here for more information.
- Make sure to use the following settings in order to reproduce any error or warning you see on this page.

raw results

Package 1570/2075HostnameOS / ArchINSTALLBUILDCHECKBUILD BIN
regsplice 1.19.0  (landing page)
Lukas M. Weber
Snapshot Date: 2021-10-21 14:50:08 -0400 (Thu, 21 Oct 2021)
git_url: https://git.bioconductor.org/packages/regsplice
git_branch: master
git_last_commit: 8279a31
git_last_commit_date: 2021-05-19 12:24:14 -0400 (Wed, 19 May 2021)
nebbiolo2Linux (Ubuntu 20.04.2 LTS) / x86_64  OK    OK    OK  UNNEEDED, same version is already published
riesling1Windows Server 2019 Standard / x64  OK    OK    OK    OK  UNNEEDED, same version is already published
merida1macOS 10.14.6 Mojave / x86_64  OK    OK    OK    NA  

Summary

Package: regsplice
Version: 1.19.0
Command: /Library/Frameworks/R.framework/Resources/bin/R CMD build --keep-empty-dirs --no-resave-data regsplice
StartedAt: 2021-10-21 22:35:31 -0400 (Thu, 21 Oct 2021)
EndedAt: 2021-10-21 22:36:36 -0400 (Thu, 21 Oct 2021)
EllapsedTime: 64.9 seconds
RetCode: 0
Status:   OK  
PackageFile: regsplice_1.19.0.tar.gz
PackageFileSize: 286.9 KiB

Command output

##############################################################################
##############################################################################
###
### Running command:
###
###   /Library/Frameworks/R.framework/Resources/bin/R CMD build --keep-empty-dirs --no-resave-data regsplice
###
##############################################################################
##############################################################################


* checking for file ‘regsplice/DESCRIPTION’ ... OK
* preparing ‘regsplice’:
* checking DESCRIPTION meta-information ... OK
* installing the package to build vignettes
* creating vignettes ... OK
* checking for LF line-endings in source and make files and shell scripts
* checking for empty or unneeded directories
Omitted ‘LazyData’ from DESCRIPTION
* building ‘regsplice_1.19.0.tar.gz’