Index of /checkResults/devel/bioc-LATEST/regioneReloaded/raw-results
Name
Last modified
Size
Description
Parent Directory
-
kunpeng2/
16-May-2024 02:46
-
info.dcf
18-May-2024 00:36
293
nebbiolo2/
18-May-2024 00:36
-
palomino4/
18-May-2024 00:37
-
merida1/
18-May-2024 00:38
-