Name | Last modified | Size | Description | |
---|---|---|---|---|
Parent Directory | - | |||
buildsrc-out.txt | 13-Jul-2024 01:30 | 890 | ||
buildsrc-summary.dcf | 13-Jul-2024 01:30 | 438 | ||
checksrc-out.txt | 13-Jul-2024 01:30 | 3.5K | ||
checksrc-summary.dcf | 13-Jul-2024 01:30 | 434 | ||
install-out.txt | 13-Jul-2024 01:30 | 967 | ||
install-summary.dcf | 13-Jul-2024 01:30 | 269 | ||