Index of /checkResults/devel/bioc-LATEST/recount/raw-results/merida1
Name
Last modified
Size
Description
Parent Directory
-
buildsrc-out.txt
04-May-2024 00:38
4.0K
buildsrc-summary.dcf
04-May-2024 00:38
344
install-out.txt
04-May-2024 00:38
1.0K
install-summary.dcf
04-May-2024 00:38
270