Name | Last modified | Size | Description | |
---|---|---|---|---|
Parent Directory | - | |||
buildbin-out.txt | 29-Mar-2024 00:39 | 1.2K | ||
buildbin-summary.dcf | 29-Mar-2024 00:39 | 558 | ||
buildsrc-out.txt | 29-Mar-2024 00:39 | 949 | ||
buildsrc-summary.dcf | 29-Mar-2024 00:39 | 443 | ||
checksrc-out.txt | 29-Mar-2024 00:39 | 5.6K | ||
checksrc-summary.dcf | 29-Mar-2024 00:39 | 467 | ||
install-out.txt | 29-Mar-2024 00:39 | 1.0K | ||
install-summary.dcf | 29-Mar-2024 00:39 | 279 | ||