Index of /checkResults/devel/bioc-LATEST/rain/raw-results/lconway

[ICO]NameLast modifiedSizeDescription

[DIR]Parent Directory  -  
[   ]install-summary.dcf13-Aug-2022 00:08 263  
[TXT]install-out.txt13-Aug-2022 00:08 1.0K 
[   ]checksrc-summary.dcf13-Aug-2022 00:08 431  
[TXT]checksrc-out.txt13-Aug-2022 00:08 3.7K 
[   ]buildsrc-summary.dcf13-Aug-2022 00:08 418  
[TXT]buildsrc-out.txt13-Aug-2022 00:08 867  
[   ]buildbin-summary.dcf13-Aug-2022 00:08 512  
[TXT]buildbin-out.txt13-Aug-2022 00:08 1.1K