Index of /checkResults/devel/bioc-LATEST/rain/raw-results

[ICO]NameLast modifiedSizeDescription

[DIR]Parent Directory  -  
[DIR]lconway/01-Jul-2022 00:08 -  
[DIR]nebbiolo2/01-Jul-2022 00:05 -  
[DIR]palomino4/01-Jul-2022 00:07 -  
[   ]info.dcf01-Jul-2022 00:08 263