Name | Last modified | Size | Description | |
---|---|---|---|---|
Parent Directory | - | |||
buildsrc-out.txt | 09-Jul-2024 00:45 | 790 | ||
buildsrc-summary.dcf | 09-Jul-2024 00:45 | 402 | ||
checksrc-out.txt | 09-Jul-2024 00:45 | 3.0K | ||
checksrc-summary.dcf | 09-Jul-2024 00:45 | 319 | ||
install-out.txt | 06-Jul-2024 00:45 | 606 | ||
install-summary.dcf | 06-Jul-2024 00:45 | 247 | ||