Back to Multiple platform build/check report for BioC 3.15
ABCDEFGHIJKLMNOPQ[R]STUVWXYZ

This page was generated on 2022-01-17 11:08:17 -0500 (Mon, 17 Jan 2022).

HostnameOSArch (*)R versionInstalled pkgs
nebbiolo1Linux (Ubuntu 20.04.4 LTS)x86_64R Under development (unstable) (2022-01-05 r81451) -- "Unsuffered Consequences" 4161
riesling1Windows Server 2019 Standardx64R Under development (unstable) (2021-11-21 r81221) -- "Unsuffered Consequences" 4056
palomino3Windows Server 2022 Datacenterx64R Under development (unstable) (2021-12-21 r81400 ucrt) -- "Unsuffered Consequences" 3998
merida1macOS 10.14.6 Mojavex86_64R Under development (unstable) (2022-01-05 r81451) -- "Unsuffered Consequences" 4115
Click on any hostname to see more info about the system (e.g. compilers)      (*) as reported by 'uname -p', except on Windows and Mac OS X

INSTALL results for rTRM on riesling1


To the developers/maintainers of the rTRM package:
- Please allow up to 24 hours (and sometimes 48 hours) for your latest push to git@git.bioconductor.org:packages/rTRM.git to
reflect on this report. See How and When does the builder pull? When will my changes propagate? here for more information.
- Make sure to use the following settings in order to reproduce any error or warning you see on this page.

raw results

Package 1671/2074HostnameOS / ArchINSTALLBUILDCHECKBUILD BIN
rTRM 1.33.0  (landing page)
Diego Diez
Snapshot Date: 2022-01-16 13:55:18 -0500 (Sun, 16 Jan 2022)
git_url: https://git.bioconductor.org/packages/rTRM
git_branch: master
git_last_commit: 708637b
git_last_commit_date: 2021-10-26 12:08:38 -0500 (Tue, 26 Oct 2021)
nebbiolo1Linux (Ubuntu 20.04.4 LTS) / x86_64  OK    OK    OK  UNNEEDED, same version is already published
riesling1Windows Server 2019 Standard / x64  OK    OK    OK    OK  
palomino3Windows Server 2022 Datacenter / x64  OK    OK    OK    OK  NO, package depends on 'AnnotationDbi' which is not available
merida1macOS 10.14.6 Mojave / x86_64  OK    OK    OK    OK  UNNEEDED, same version is already published

Summary

Package: rTRM
Version: 1.33.0
Command: D:\biocbuild\bbs-3.15-bioc\R\bin\R.exe CMD INSTALL rTRM
StartedAt: 2022-01-16 15:47:14 -0500 (Sun, 16 Jan 2022)
EndedAt: 2022-01-16 15:48:05 -0500 (Sun, 16 Jan 2022)
EllapsedTime: 51.5 seconds
RetCode: 0
Status:   OK  

Command output

##############################################################################
##############################################################################
###
### Running command:
###
###   D:\biocbuild\bbs-3.15-bioc\R\bin\R.exe CMD INSTALL rTRM
###
##############################################################################
##############################################################################


* installing to library 'D:/biocbuild/bbs-3.15-bioc/R/library'
* installing *source* package 'rTRM' ...
** using staged installation
** R
** data
** inst
** byte-compile and prepare package for lazy loading
** help
Loading required package: igraph

Attaching package: 'igraph'

The following objects are masked from 'package:stats':

    decompose, spectrum

The following object is masked from 'package:base':

    union

*** installing help indices
  converting help for package 'rTRM'
    finding HTML links ... done
    annotateFreq                            html  
    annotateModule                          html  
    annotateTRM                             html  
    biogrid_hs                              html  
    biogrid_mm                              html  
    findTRM                                 html  
    getAnnotations                          html  
    getBiogridData                          html  
    getConcentricList                       html  
    getLargestComp                          html  
    getMaps                                 html  
    getMatrices                             html  
    getMotifsFromEntrezgene                 html  
    getMotifsFromSymbol                     html  
    getOrthologFromMatrix                   html  
    getOrthologs                            html  
    getOrthologsFromBiomart                 html  
    getSequencesFromGenome                  html  
    getSimilarityMatrix                     html  
    getTFclass                              html  
    getTFclassFromEntrezgene                html  
    getTFterms                              html  
    initBiomart                             html  
    layout.arc                              html  
    layout.concentric                       html  
    plotDegree                              html  
    plotGraph                               html  
    plotTRM                                 html  
    plotTRMlegend                           html  
    processBiogrid                          html  
    rTRM-package                            html  
    removeVertices                          html  
    writeTRMreport                          html  
** building package indices
** installing vignettes
** testing if installed package can be loaded from temporary location
** testing if installed package can be loaded from final location
** testing if installed package keeps a record of temporary installation path
* DONE (rTRM)
Making 'packages.html' ...Warning in packageDescription(i, lib.loc = lib, fields = "Title", encoding = "UTF-8") :
  DESCRIPTION file of package 'PADOG' is missing or broken
 done