Name | Last modified | Size | Description | |
---|---|---|---|---|
Parent Directory | - | |||
buildsrc-out.txt | 29-Mar-2024 00:37 | 1.4K | ||
buildsrc-summary.dcf | 29-Mar-2024 00:37 | 408 | ||
checksrc-out.txt | 29-Mar-2024 00:37 | 3.8K | ||
checksrc-summary.dcf | 29-Mar-2024 00:37 | 402 | ||
install-out.txt | 29-Mar-2024 00:37 | 1.5K | ||
install-summary.dcf | 29-Mar-2024 00:37 | 253 | ||