Index of /checkResults/devel/bioc-LATEST/rGREAT/raw-results/palomino3

[ICO]NameLast modifiedSizeDescription

[DIR]Parent Directory  -  
[TXT]buildbin-out.txt29-Mar-2024 00:38 2.0K 
[   ]buildbin-summary.dcf29-Mar-2024 00:38 506  
[TXT]buildsrc-out.txt29-Mar-2024 00:38 865  
[   ]buildsrc-summary.dcf29-Mar-2024 00:38 446  
[TXT]checksrc-out.txt29-Mar-2024 00:38 4.3K 
[   ]checksrc-summary.dcf29-Mar-2024 00:38 441  
[TXT]install-out.txt29-Mar-2024 00:38 1.9K 
[   ]install-summary.dcf29-Mar-2024 00:38 265