Index of /checkResults/devel/bioc-LATEST/rGREAT/raw-results/palomino3

[ICO]NameLast modifiedSizeDescription

[DIR]Parent Directory  -  
[TXT]buildbin-out.txt29-Feb-2024 01:38 2.0K 
[   ]buildbin-summary.dcf29-Feb-2024 01:38 507  
[TXT]buildsrc-out.txt29-Feb-2024 01:38 865  
[   ]buildsrc-summary.dcf29-Feb-2024 01:38 447  
[TXT]checksrc-out.txt29-Feb-2024 01:38 1.7K 
[   ]checksrc-summary.dcf29-Feb-2024 01:38 444  
[TXT]install-out.txt29-Feb-2024 01:38 1.3K 
[   ]install-summary.dcf29-Feb-2024 01:38 267