Index of /checkResults/devel/bioc-LATEST/rGREAT/raw-results/nebbiolo1

[ICO]NameLast modifiedSizeDescription

[DIR]Parent Directory  -  
[TXT]buildsrc-out.txt29-Mar-2024 00:36 831  
[   ]buildsrc-summary.dcf29-Mar-2024 00:36 412  
[TXT]checksrc-out.txt29-Mar-2024 00:36 3.6K 
[   ]checksrc-summary.dcf29-Mar-2024 00:36 408  
[TXT]install-out.txt29-Mar-2024 00:36 1.8K 
[   ]install-summary.dcf29-Mar-2024 00:36 256