Index of /checkResults/devel/bioc-LATEST/rGREAT/raw-results/nebbiolo1

[ICO]NameLast modifiedSizeDescription

[DIR]Parent Directory  -  
[TXT]buildsrc-out.txt29-Feb-2024 01:36 831  
[   ]buildsrc-summary.dcf29-Feb-2024 01:36 413  
[TXT]checksrc-out.txt29-Feb-2024 01:36 1.6K 
[   ]checksrc-summary.dcf29-Feb-2024 01:36 410  
[TXT]install-out.txt29-Feb-2024 01:36 1.1K 
[   ]install-summary.dcf29-Feb-2024 01:36 258