Index of /checkResults/devel/bioc-LATEST/rGREAT/raw-results/merida1

[ICO]NameLast modifiedSizeDescription

[DIR]Parent Directory  -  
[   ]buildbin-summary.dcf27-May-2024 00:35 522  
[TXT]buildbin-out.txt27-May-2024 00:35 4.3K 
[TXT]checksrc-out.txt27-May-2024 00:35 3.9K 
[   ]checksrc-summary.dcf27-May-2024 00:35 438  
[TXT]buildsrc-out.txt27-May-2024 00:35 841  
[   ]buildsrc-summary.dcf27-May-2024 00:35 423  
[TXT]install-out.txt27-May-2024 00:35 2.1K 
[   ]install-summary.dcf27-May-2024 00:35 267