Index of /checkResults/devel/bioc-LATEST/rGREAT/raw-results/kunpeng2

[ICO]NameLast modifiedSizeDescription

[DIR]Parent Directory  -  
[   ]install-summary.dcf27-Feb-2024 04:02 271  
[   ]buildsrc-summary.dcf27-Feb-2024 04:02 425  
[   ]checksrc-summary.dcf27-Feb-2024 04:02 449  
[TXT]buildsrc-out.txt27-Feb-2024 04:02 843  
[TXT]install-out.txt27-Feb-2024 04:02 1.6K 
[TXT]checksrc-out.txt27-Feb-2024 04:02 1.7K