![]() | Name | Last modified | Size | Description |
---|---|---|---|---|
![]() | Parent Directory | - | ||
![]() | buildsrc-out.txt | 07-Dec-2023 01:39 | 1.8K | |
![]() | buildsrc-summary.dcf | 07-Dec-2023 01:39 | 340 | |
![]() | checksrc-out.txt | 02-Dec-2023 01:39 | 3.7K | |
![]() | checksrc-summary.dcf | 02-Dec-2023 01:39 | 441 | |
![]() | install-out.txt | 07-Dec-2023 01:39 | 1.8K | |
![]() | install-summary.dcf | 07-Dec-2023 01:39 | 265 | |