Index of /checkResults/devel/bioc-LATEST/rCGH/raw-results
Name
Last modified
Size
Description
Parent Directory
-
info.dcf
19-May-2022 00:08
260
lconway/
19-May-2022 00:08
-
nebbiolo2/
19-May-2022 00:05
-
palomino4/
19-May-2022 00:06
-