Name | Last modified | Size | Description | |
---|---|---|---|---|
Parent Directory | - | |||
checksrc-out.txt | 21-Jun-2024 01:14 | 14K | ||
install-out.txt | 21-Jun-2024 01:14 | 1.2K | ||
buildsrc-out.txt | 21-Jun-2024 01:14 | 889 | ||
buildsrc-summary.dcf | 21-Jun-2024 01:14 | 420 | ||
checksrc-summary.dcf | 21-Jun-2024 01:14 | 410 | ||
install-summary.dcf | 21-Jun-2024 01:14 | 257 | ||