Back to Multiple platform build/check report for BioC 3.16
ABCDEFGHIJKLMNOP[Q]RSTUVWXYZ

This page was generated on 2022-06-24 11:07:02 -0400 (Fri, 24 Jun 2022).

HostnameOSArch (*)R versionInstalled pkgs
nebbiolo2Linux (Ubuntu 20.04.4 LTS)x86_644.2.0 Patched (2022-06-02 r82447) -- "Vigorous Calisthenics" 4331
palomino4Windows Server 2022 Datacenterx644.2.0 Patched (2022-06-02 r82447 ucrt) -- "Vigorous Calisthenics" 4136
lconwaymacOS 12.2.1 Montereyx86_644.2.0 Patched (2022-05-29 r82424) -- "Vigorous Calisthenics" 4147
Click on any hostname to see more info about the system (e.g. compilers)      (*) as reported by 'uname -p', except on Windows and Mac OS X

CHECK results for qusage on palomino4


To the developers/maintainers of the qusage package:
- Please allow up to 24 hours (and sometimes 48 hours) for your latest push to git@git.bioconductor.org:packages/qusage.git to
reflect on this report. See How and When does the builder pull? When will my changes propagate? for more information.
- Make sure to use the following settings in order to reproduce any error or warning you see on this page.

raw results

Package 1535/2118HostnameOS / ArchINSTALLBUILDCHECKBUILD BIN
qusage 2.31.0  (landing page)
Christopher Bolen
Snapshot Date: 2022-06-23 14:00:04 -0400 (Thu, 23 Jun 2022)
git_url: https://git.bioconductor.org/packages/qusage
git_branch: master
git_last_commit: 0a50e64
git_last_commit_date: 2022-04-26 11:16:03 -0400 (Tue, 26 Apr 2022)
nebbiolo2Linux (Ubuntu 20.04.4 LTS) / x86_64  OK    OK    OK  UNNEEDED, same version is already published
palomino4Windows Server 2022 Datacenter / x64  OK    OK    OK    OK  UNNEEDED, same version is already published
lconwaymacOS 12.2.1 Monterey / x86_64  OK    OK    OK    OK  UNNEEDED, same version is already published

Summary

Package: qusage
Version: 2.31.0
Command: F:\biocbuild\bbs-3.16-bioc\R\bin\R.exe CMD check --force-multiarch --install=check:qusage.install-out.txt --library=F:\biocbuild\bbs-3.16-bioc\R\library --no-vignettes --timings qusage_2.31.0.tar.gz
StartedAt: 2022-06-24 04:47:25 -0400 (Fri, 24 Jun 2022)
EndedAt: 2022-06-24 04:49:01 -0400 (Fri, 24 Jun 2022)
EllapsedTime: 95.3 seconds
RetCode: 0
Status:   OK  
CheckDir: qusage.Rcheck
Warnings: 0

Command output

##############################################################################
##############################################################################
###
### Running command:
###
###   F:\biocbuild\bbs-3.16-bioc\R\bin\R.exe CMD check --force-multiarch --install=check:qusage.install-out.txt --library=F:\biocbuild\bbs-3.16-bioc\R\library --no-vignettes --timings qusage_2.31.0.tar.gz
###
##############################################################################
##############################################################################


* using log directory 'F:/biocbuild/bbs-3.16-bioc/meat/qusage.Rcheck'
* using R version 4.2.0 Patched (2022-06-02 r82447 ucrt)
* using platform: x86_64-w64-mingw32 (64-bit)
* using session charset: UTF-8
* using option '--no-vignettes'
* checking for file 'qusage/DESCRIPTION' ... OK
* this is package 'qusage' version '2.31.0'
* checking package namespace information ... OK
* checking package dependencies ... OK
* checking if this is a source package ... OK
* checking if there is a namespace ... OK
* checking for hidden files and directories ... OK
* checking for portable file names ... OK
* checking whether package 'qusage' can be installed ... OK
* checking installed package size ... NOTE
  installed size is  8.8Mb
  sub-directories of 1Mb or more:
    data   8.5Mb
* checking package directory ... OK
* checking 'build' directory ... OK
* checking DESCRIPTION meta-information ... NOTE
Malformed Description field: should contain one or more complete sentences.
* checking top-level files ... OK
* checking for left-over files ... OK
* checking index information ... OK
* checking package subdirectories ... OK
* checking R files for non-ASCII characters ... OK
* checking R files for syntax errors ... OK
* checking whether the package can be loaded ... OK
* checking whether the package can be loaded with stated dependencies ... OK
* checking whether the package can be unloaded cleanly ... OK
* checking whether the namespace can be loaded with stated dependencies ... OK
* checking whether the namespace can be unloaded cleanly ... OK
* checking dependencies in R code ... OK
* checking S3 generic/method consistency ... OK
* checking replacement functions ... OK
* checking foreign function calls ... OK
* checking R code for possible problems ... NOTE
absoluteTest : <anonymous>: no visible global function definition for
  'pchisq'
absoluteTest.genePvals: no visible global function definition for 'qt'
absoluteTest.genePvals: no visible global function definition for
  'approx'
absoluteTest.genePvals: no visible global function definition for 'dt'
absoluteTest.genePvals: no visible global function definition for
  'pnorm'
absoluteTest.genePvals: no visible global function definition for 'pt'
absoluteTest.genePvalsFAST : <anonymous>: no visible global function
  definition for 'pt'
aggregateGeneSet: no visible global function definition for 'qt'
aggregateGeneSet : <anonymous>: no visible global function definition
  for 'dt'
calcPCor: no visible global function definition for 'model.matrix'
calcPCor: no visible global function definition for 'formula'
calcPCor : <anonymous>: no visible global function definition for 'cov'
calcVIF: no visible global function definition for 'model.matrix'
calcVIF: no visible global function definition for 'formula'
calcVIF : <anonymous>: no visible global function definition for 'cov'
combinePDFs : <anonymous> : <anonymous>: no visible global function
  definition for 'approx'
combinePDFs : <anonymous>: no visible global function definition for
  'approx'
compareTwoDistsFaster: no visible global function definition for
  'runif'
getExAbs: no visible global function definition for 'approx'
homogeneityScore : <anonymous>: no visible global function definition
  for 'pchisq'
makeComparison: no visible global function definition for
  'model.matrix'
makeComparison: no visible global function definition for 'formula'
multi_conv : <anonymous>: no visible global function definition for
  'fft'
multi_conv: no visible global function definition for 'fft'
plotCIs: no visible global function definition for 'p.adjust'
plotCIs: no visible global function definition for 'par'
plotCIs: no visible global function definition for 'rgb'
plotCIs: no visible global function definition for 'abline'
plotCIs: no visible global function definition for 'gray'
plotCIs: no visible global function definition for 'axis'
plotCIs: no visible global function definition for 'text'
plotCIs: no visible global function definition for 'arrows'
plotCIs: no visible global function definition for 'points'
plotCIs: no visible global function definition for 'strwidth'
plotCIs: no visible global function definition for 'strheight'
plotCIs: no visible global function definition for 'polygon'
plotCIs: no visible global function definition for 'box'
plotCIsGenes : <anonymous>: no visible global function definition for
  'qt'
plotCIsGenes: no visible global function definition for 'dt'
plotCIsGenes: no visible global function definition for 'par'
plotCIsGenes: no visible global function definition for 'abline'
plotCIsGenes: no visible global function definition for 'gray'
plotCIsGenes: no visible global function definition for 'polygon'
plotCIsGenes: no visible global function definition for 'grey'
plotCIsGenes: no visible global function definition for 'points'
plotCIsGenes: no visible global function definition for 'arrows'
plotCIsGenes: no visible global function definition for 'axis'
plotCIsGenes: no visible global function definition for 'text'
plotCIsGenes: no visible global function definition for 'box'
plotCombinedPDF: no visible global function definition for 'par'
plotCombinedPDF: no visible global function definition for 'abline'
plotCombinedPDF: no visible global function definition for 'lines'
plotDensityCurves: no visible global function definition for 'par'
plotDensityCurves: no visible global function definition for 'abline'
plotDensityCurves: no visible global function definition for 'lines'
plotGeneSetDistributions: no visible global function definition for
  'layout'
plotGeneSetDistributions: no visible global function definition for
  'par'
plotGeneSetDistributions: no visible global function definition for
  'frame'
plotGeneSetDistributions: no visible global function definition for
  'text'
plotGeneSetDistributions: no visible global function definition for
  'axis'
plotGeneSetDistributions: no visible global function definition for
  'dt'
plotGeneSetDistributions: no visible global function definition for
  'quantile'
plotGeneSetDistributions: no visible global function definition for
  'rect'
plotGeneSetDistributions: no visible global function definition for
  'col2rgb'
plotGeneSetDistributions: no visible global function definition for
  'rainbow'
plotGeneSetDistributions: no visible global function definition for
  'colorRamp'
plotGeneSetDistributions: no visible global function definition for
  'rgb'
plotGeneSetDistributions: no visible global function definition for
  'approx'
plotGeneSetDistributions: no visible global function definition for
  'lines'
plotGeneSetDistributions: no visible global function definition for
  'abline'
qgen: no visible global function definition for 'median'
qgen: no visible global function definition for 'model.matrix'
qgen: no visible global function definition for 'formula'
qgen: no visible global function definition for 'residuals'
qgen: no visible global function definition for 'lm'
qgen: no visible global function definition for 'setNames'
qsTable: no visible global function definition for 'p.adjust'
twoCurve.pVal : <anonymous>: no visible global function definition for
  'approx'
weighted_conv: no visible global function definition for 'approx'
weighted_conv: no visible global function definition for 'convolve'
Undefined global functions or variables:
  abline approx arrows axis box col2rgb colorRamp convolve cov dt fft
  formula frame gray grey layout lines lm median model.matrix p.adjust
  par pchisq pnorm points polygon pt qt quantile rainbow rect residuals
  rgb runif setNames strheight strwidth text
Consider adding
  importFrom("grDevices", "col2rgb", "colorRamp", "gray", "grey",
             "rainbow", "rgb")
  importFrom("graphics", "abline", "arrows", "axis", "box", "frame",
             "layout", "lines", "par", "points", "polygon", "rect",
             "strheight", "strwidth", "text")
  importFrom("stats", "approx", "convolve", "cov", "dt", "fft",
             "formula", "lm", "median", "model.matrix", "p.adjust",
             "pchisq", "pnorm", "pt", "qt", "quantile", "residuals",
             "runif", "setNames")
to your NAMESPACE file.
* checking Rd files ... NOTE
prepare_Rd: GeneSets.Rd:20: Dropping empty section \format
* checking Rd metadata ... OK
* checking Rd cross-references ... OK
* checking for missing documentation entries ... OK
* checking for code/documentation mismatches ... OK
* checking Rd \usage sections ... OK
* checking Rd contents ... OK
* checking for unstated dependencies in examples ... OK
* checking contents of 'data' directory ... OK
* checking data for non-ASCII characters ... OK
* checking data for ASCII and uncompressed saves ... OK
* checking sizes of PDF files under 'inst/doc' ... OK
* checking files in 'vignettes' ... OK
* checking examples ... OK
Examples with CPU (user + system) or elapsed time > 5s
      user system elapsed
qgen 16.84   0.46   17.29
* checking for unstated dependencies in vignettes ... OK
* checking package vignettes in 'inst/doc' ... OK
* checking running R code from vignettes ... SKIPPED
* checking re-building of vignette outputs ... SKIPPED
* checking PDF version of manual ... OK
* DONE

Status: 4 NOTEs
See
  'F:/biocbuild/bbs-3.16-bioc/meat/qusage.Rcheck/00check.log'
for details.



Installation output

qusage.Rcheck/00install.out

##############################################################################
##############################################################################
###
### Running command:
###
###   C:\cygwin\bin\curl.exe -O http://155.52.207.166/BBS/3.16/bioc/src/contrib/qusage_2.31.0.tar.gz && rm -rf qusage.buildbin-libdir && mkdir qusage.buildbin-libdir && F:\biocbuild\bbs-3.16-bioc\R\bin\R.exe CMD INSTALL --merge-multiarch --build --library=qusage.buildbin-libdir qusage_2.31.0.tar.gz && F:\biocbuild\bbs-3.16-bioc\R\bin\R.exe CMD INSTALL qusage_2.31.0.zip && rm qusage_2.31.0.tar.gz qusage_2.31.0.zip
###
##############################################################################
##############################################################################


  % Total    % Received % Xferd  Average Speed   Time    Time     Time  Current
                                 Dload  Upload   Total   Spent    Left  Speed

  0     0    0     0    0     0      0      0 --:--:-- --:--:-- --:--:--     0
  1 8779k    1  134k    0     0  1972k      0  0:00:04 --:--:--  0:00:04 1976k
100 8779k  100 8779k    0     0  18.4M      0 --:--:-- --:--:-- --:--:-- 18.4M
only one architecture so ignoring '--merge-multiarch'
* installing *source* package 'qusage' ...
** using staged installation
** R
** data
** inst
** byte-compile and prepare package for lazy loading
** help
*** installing help indices
** building package indices
** installing vignettes
** testing if installed package can be loaded from temporary location
** testing if installed package can be loaded from final location
** testing if installed package keeps a record of temporary installation path
* MD5 sums
packaged installation of 'qusage' as qusage_2.31.0.zip
* DONE (qusage)
* installing to library 'F:/biocbuild/bbs-3.16-bioc/R/library'
package 'qusage' successfully unpacked and MD5 sums checked

Tests output


Example timings

qusage.Rcheck/qusage-Ex.timings

nameusersystemelapsed
aggregateGeneSet0.120.020.15
calcVIF0.170.000.17
combinePDFs1.860.252.11
getXcoords0.190.000.19
makeComparison000
pVal0.390.030.42
plotCIs0.780.110.89
plotCIsGenes0.150.000.15
plotCombinedPDF1.220.051.27
plotDensityCurves0.170.000.17
plotGeneSetDistributions1.960.122.10
qgen16.84 0.4617.29
qsTable0.780.080.86
qusage0.580.110.68