Back to Multiple platform build/check report for BioC 3.15
ABCDEFGHIJKLMNOP[Q]RSTUVWXYZ

This page was generated on 2021-11-30 13:55:07 -0500 (Tue, 30 Nov 2021).

INSTALL results for qsmooth on riesling1

To the developers/maintainers of the qsmooth package:
- Please allow up to 24 hours (and sometimes 48 hours) for your latest push to git@git.bioconductor.org:packages/qsmooth.git to
reflect on this report. See How and When does the builder pull? When will my changes propagate? here for more information.
- Make sure to use the following settings in order to reproduce any error or warning you see on this page.

raw results

Package 1491/2068HostnameOS / ArchINSTALLBUILDCHECKBUILD BIN
qsmooth 1.11.0  (landing page)
Stephanie C. Hicks
Snapshot Date: 2021-11-29 14:50:17 -0500 (Mon, 29 Nov 2021)
git_url: https://git.bioconductor.org/packages/qsmooth
git_branch: master
git_last_commit: 88ec22a
git_last_commit_date: 2021-10-26 12:50:25 -0500 (Tue, 26 Oct 2021)
nebbiolo1Linux (Ubuntu 20.04.3 LTS) / x86_64  OK    OK    WARNINGS  UNNEEDED, same version is already published
riesling1Windows Server 2019 Standard / x64  OK    OK    WARNINGS    OK  
merida1macOS 10.14.6 Mojave / x86_64  OK    OK    WARNINGS    OK  UNNEEDED, same version is already published

Summary

Package: qsmooth
Version: 1.11.0
Command: C:\cygwin\bin\curl.exe -O http://155.52.207.165/BBS/3.15/bioc/src/contrib/qsmooth_1.11.0.tar.gz && rm -rf qsmooth.buildbin-libdir && mkdir qsmooth.buildbin-libdir && D:\biocbuild\bbs-3.15-bioc\R\bin\R.exe CMD INSTALL --merge-multiarch --build --library=qsmooth.buildbin-libdir qsmooth_1.11.0.tar.gz && D:\biocbuild\bbs-3.15-bioc\R\bin\R.exe CMD INSTALL qsmooth_1.11.0.zip && rm qsmooth_1.11.0.tar.gz qsmooth_1.11.0.zip
StartedAt: 2021-11-29 18:26:16 -0500 (Mon, 29 Nov 2021)
EndedAt: 2021-11-29 18:29:19 -0500 (Mon, 29 Nov 2021)
EllapsedTime: 182.5 seconds
RetCode: 0
Status:   OK  

Command output

##############################################################################
##############################################################################
###
### Running command:
###
###   C:\cygwin\bin\curl.exe -O http://155.52.207.165/BBS/3.15/bioc/src/contrib/qsmooth_1.11.0.tar.gz && rm -rf qsmooth.buildbin-libdir && mkdir qsmooth.buildbin-libdir && D:\biocbuild\bbs-3.15-bioc\R\bin\R.exe CMD INSTALL --merge-multiarch --build --library=qsmooth.buildbin-libdir qsmooth_1.11.0.tar.gz && D:\biocbuild\bbs-3.15-bioc\R\bin\R.exe CMD INSTALL qsmooth_1.11.0.zip && rm qsmooth_1.11.0.tar.gz qsmooth_1.11.0.zip
###
##############################################################################
##############################################################################


  % Total    % Received % Xferd  Average Speed   Time    Time     Time  Current
                                 Dload  Upload   Total   Spent    Left  Speed

  0     0    0     0    0     0      0      0 --:--:-- --:--:-- --:--:--     0
100  298k  100  298k    0     0  1325k      0 --:--:-- --:--:-- --:--:-- 1331k
only one architecture so ignoring '--merge-multiarch'
* installing *source* package 'qsmooth' ...
** using staged installation
** R
** data
** inst
** byte-compile and prepare package for lazy loading
** help
*** installing help indices
  converting help for package 'qsmooth'
    finding HTML links ... done
    qsmooth-class                           html  
    qsmooth                                 html  
    qsmoothData                             html  
    qsmoothGC                               html  
    qsmoothPlotWeights                      html  
    qsmoothWeights                          html  
    qstats                                  html  
** building package indices
** installing vignettes
** testing if installed package can be loaded from temporary location
** testing if installed package can be loaded from final location
** testing if installed package keeps a record of temporary installation path
* MD5 sums
packaged installation of 'qsmooth' as qsmooth_1.11.0.zip
* DONE (qsmooth)
* installing to library 'D:/biocbuild/bbs-3.15-bioc/R/library'
package 'qsmooth' successfully unpacked and MD5 sums checked