Back to Multiple platform build/check report for BioC 3.15
ABCDEFGHIJKLMNOP[Q]RSTUVWXYZ

This page was generated on 2021-11-30 13:55:37 -0500 (Tue, 30 Nov 2021).

BUILD results for qsmooth on merida1

To the developers/maintainers of the qsmooth package:
- Please allow up to 24 hours (and sometimes 48 hours) for your latest push to git@git.bioconductor.org:packages/qsmooth.git to
reflect on this report. See How and When does the builder pull? When will my changes propagate? here for more information.
- Make sure to use the following settings in order to reproduce any error or warning you see on this page.

raw results

Package 1491/2068HostnameOS / ArchINSTALLBUILDCHECKBUILD BIN
qsmooth 1.11.0  (landing page)
Stephanie C. Hicks
Snapshot Date: 2021-11-29 14:50:17 -0500 (Mon, 29 Nov 2021)
git_url: https://git.bioconductor.org/packages/qsmooth
git_branch: master
git_last_commit: 88ec22a
git_last_commit_date: 2021-10-26 12:50:25 -0500 (Tue, 26 Oct 2021)
nebbiolo1Linux (Ubuntu 20.04.3 LTS) / x86_64  OK    OK    WARNINGS  UNNEEDED, same version is already published
riesling1Windows Server 2019 Standard / x64  OK    OK    WARNINGS    OK  
merida1macOS 10.14.6 Mojave / x86_64  OK    OK    WARNINGS    OK  UNNEEDED, same version is already published

Summary

Package: qsmooth
Version: 1.11.0
Command: /Library/Frameworks/R.framework/Resources/bin/R CMD build --keep-empty-dirs --no-resave-data qsmooth
StartedAt: 2021-11-29 22:26:40 -0500 (Mon, 29 Nov 2021)
EndedAt: 2021-11-29 22:28:15 -0500 (Mon, 29 Nov 2021)
EllapsedTime: 95.5 seconds
RetCode: 0
Status:   OK  
PackageFile: qsmooth_1.11.0.tar.gz
PackageFileSize: 1.211 MiB

Command output

##############################################################################
##############################################################################
###
### Running command:
###
###   /Library/Frameworks/R.framework/Resources/bin/R CMD build --keep-empty-dirs --no-resave-data qsmooth
###
##############################################################################
##############################################################################


* checking for file ‘qsmooth/DESCRIPTION’ ... OK
* preparing ‘qsmooth’:
* checking DESCRIPTION meta-information ... OK
* installing the package to build vignettes
* creating vignettes ... OK
* checking for LF line-endings in source and make files and shell scripts
* checking for empty or unneeded directories
* looking to see if a ‘data/datalist’ file should be added
* building ‘qsmooth_1.11.0.tar.gz’