Index of /checkResults/devel/bioc-LATEST/pwOmics/raw-results

[ICO]NameLast modifiedSizeDescription

[DIR]Parent Directory  -  
[   ]info.dcf15-May-2022 00:08 277  
[DIR]lconway/15-May-2022 00:08 -  
[DIR]nebbiolo2/15-May-2022 00:05 -  
[DIR]palomino4/15-May-2022 00:06 -