Back to Multiple platform build/check report for BioC 3.16
ABCDEFGHIJKLMNO[P]QRSTUVWXYZ

This page was generated on 2022-06-24 11:07:01 -0400 (Fri, 24 Jun 2022).

HostnameOSArch (*)R versionInstalled pkgs
nebbiolo2Linux (Ubuntu 20.04.4 LTS)x86_644.2.0 Patched (2022-06-02 r82447) -- "Vigorous Calisthenics" 4331
palomino4Windows Server 2022 Datacenterx644.2.0 Patched (2022-06-02 r82447 ucrt) -- "Vigorous Calisthenics" 4136
lconwaymacOS 12.2.1 Montereyx86_644.2.0 Patched (2022-05-29 r82424) -- "Vigorous Calisthenics" 4147
Click on any hostname to see more info about the system (e.g. compilers)      (*) as reported by 'uname -p', except on Windows and Mac OS X

INSTALL results for pwOmics on palomino4


To the developers/maintainers of the pwOmics package:
- Please allow up to 24 hours (and sometimes 48 hours) for your latest push to git@git.bioconductor.org:packages/pwOmics.git to
reflect on this report. See How and When does the builder pull? When will my changes propagate? for more information.
- Make sure to use the following settings in order to reproduce any error or warning you see on this page.

raw results

Package 1512/2118HostnameOS / ArchINSTALLBUILDCHECKBUILD BIN
pwOmics 1.29.0  (landing page)
Maren Sitte
Snapshot Date: 2022-06-23 14:00:04 -0400 (Thu, 23 Jun 2022)
git_url: https://git.bioconductor.org/packages/pwOmics
git_branch: master
git_last_commit: 2f01413
git_last_commit_date: 2022-04-26 11:25:25 -0400 (Tue, 26 Apr 2022)
nebbiolo2Linux (Ubuntu 20.04.4 LTS) / x86_64  OK    OK    WARNINGS  UNNEEDED, same version is already published
palomino4Windows Server 2022 Datacenter / x64  OK    OK    WARNINGS    OK  UNNEEDED, same version is already published
lconwaymacOS 12.2.1 Monterey / x86_64  OK    OK    WARNINGS    OK  UNNEEDED, same version is already published

Summary

Package: pwOmics
Version: 1.29.0
Command: C:\cygwin\bin\curl.exe -O http://155.52.207.166/BBS/3.16/bioc/src/contrib/pwOmics_1.29.0.tar.gz && rm -rf pwOmics.buildbin-libdir && mkdir pwOmics.buildbin-libdir && F:\biocbuild\bbs-3.16-bioc\R\bin\R.exe CMD INSTALL --merge-multiarch --build --library=pwOmics.buildbin-libdir pwOmics_1.29.0.tar.gz && F:\biocbuild\bbs-3.16-bioc\R\bin\R.exe CMD INSTALL pwOmics_1.29.0.zip && rm pwOmics_1.29.0.tar.gz pwOmics_1.29.0.zip
StartedAt: 2022-06-23 15:49:57 -0400 (Thu, 23 Jun 2022)
EndedAt: 2022-06-23 15:50:32 -0400 (Thu, 23 Jun 2022)
EllapsedTime: 35.0 seconds
RetCode: 0
Status:   OK  

Command output

##############################################################################
##############################################################################
###
### Running command:
###
###   C:\cygwin\bin\curl.exe -O http://155.52.207.166/BBS/3.16/bioc/src/contrib/pwOmics_1.29.0.tar.gz && rm -rf pwOmics.buildbin-libdir && mkdir pwOmics.buildbin-libdir && F:\biocbuild\bbs-3.16-bioc\R\bin\R.exe CMD INSTALL --merge-multiarch --build --library=pwOmics.buildbin-libdir pwOmics_1.29.0.tar.gz && F:\biocbuild\bbs-3.16-bioc\R\bin\R.exe CMD INSTALL pwOmics_1.29.0.zip && rm pwOmics_1.29.0.tar.gz pwOmics_1.29.0.zip
###
##############################################################################
##############################################################################


  % Total    % Received % Xferd  Average Speed   Time    Time     Time  Current
                                 Dload  Upload   Total   Spent    Left  Speed

  0     0    0     0    0     0      0      0 --:--:-- --:--:-- --:--:--     0
100  892k  100  892k    0     0  4708k      0 --:--:-- --:--:-- --:--:-- 4723k
only one architecture so ignoring '--merge-multiarch'
* installing *source* package 'pwOmics' ...
** using staged installation
** R
** data
** inst
** byte-compile and prepare package for lazy loading
** help
*** installing help indices
** building package indices
** testing if installed package can be loaded from temporary location
** testing if installed package can be loaded from final location
** testing if installed package keeps a record of temporary installation path
* MD5 sums
packaged installation of 'pwOmics' as pwOmics_1.29.0.zip
* DONE (pwOmics)
* installing to library 'F:/biocbuild/bbs-3.16-bioc/R/library'
package 'pwOmics' successfully unpacked and MD5 sums checked